BEGIN:VCALENDAR
VERSION:2.0
PRODID:-//ChamberMaster//Event Calendar 2.0//EN
METHOD:PUBLISH
X-PUBLISHED-TTL:P3D
REFRESH-INTERVAL:P3D
CALSCALE:GREGORIAN
BEGIN:VEVENT
DTSTART:20200613T140000Z
DTEND:20200613T210000Z
X-MICROSOFT-CDO-ALLDAYEVENT:FALSE
SUMMARY:Vintage & Made Fair--Virtual
DESCRIPTION:Vintage & Made Fair is inspired by indie craft and all things vintage and we are excited to have our Summer Edition at the Dallas County Fairgrounds in Adel! It is an indoor/outdoor market featuring antique and vintage home d cor\, jewelry\, handcrafted goods\, seasonal flora\, local eats and everything you need to create a vintage and handmade lifestyle. This Edition of Vintage & Made Fair is a 1-day event where shoppers can share the love of small businesses from over 120 Midwest Curators! BuzzFeed ranked the Fair as one of the Top 10 Indie Craft Fairs in the world that every creative person needs to visit! Presented by the locally owned\, Vintage No. 35. Admission: $8/person 12 & under are Free! Dates: Saturday\, June 13 9am-4pm Location: Dallas County Fairgrounds 28057 Fairgrounds Rd | Adel\, IA 50003 www.vintageandmadefair.com www.facebook.com/vintageandmadefair #vintageandmadefair
X-ALT-DESC;FMTTYPE=text/html:Vintage &amp\; Made Fair is inspired by indie craft and all things vintage and we are excited to have our Summer Edition at the Dallas County Fairgrounds in Adel! It is an indoor/outdoor market featuring antique and vintage home d&eacute\;cor\, jewelry\, handcrafted goods\, seasonal flora\, local eats and everything you need to create a vintage and handmade lifestyle. This Edition of Vintage &amp\; Made Fair is a 1-day event where shoppers can share the love of small businesses from over 120 Midwest Curators! BuzzFeed ranked the Fair as one of the Top 10 Indie Craft Fairs in the world that every creative person needs to visit! Presented by the locally owned\, Vintage No. 35. Admission: $8/person 12 &amp\; under are Free! Dates: Saturday\, June 13 9am-4pm Location: Dallas County Fairgrounds 28057 Fairgrounds Rd | Adel\, IA 50003 www.vintageandmadefair.com www.facebook.com/vintageandmadefair #vintageandmadefair
LOCATION:Dallas County Fairgrounds 28057 Fairgrounds Road Adel\, IA 50003
UID:e.2561.3287
SEQUENCE:3
DTSTAMP:20260423T230816Z
URL:https://business.adelpartners.org/events/details/vintage-made-fair-virtual-3287
END:VEVENT

END:VCALENDAR
