BEGIN:VCALENDAR
VERSION:2.0
PRODID:-//ChamberMaster//Event Calendar 2.0//EN
METHOD:PUBLISH
X-PUBLISHED-TTL:P3D
REFRESH-INTERVAL:P3D
CALSCALE:GREGORIAN
BEGIN:VEVENT
DTSTART:20201206T220000Z
DTEND:20201206T230000Z
X-MICROSOFT-CDO-ALLDAYEVENT:FALSE
SUMMARY:Virtual Holiday Home Tour
DESCRIPTION:The This Is Adel committee a part of the Adel Parnter's Chamber is excited to have the Virtual Holiday Home Tour of 3 beautifully decorated homes in Adel.
X-ALT-DESC;FMTTYPE=text/html:The This Is Adel committee a part of the Adel Parnter&#39\;s Chamber is excited to have the Virtual Holiday Home Tour of 3 beautifully decorated homes in Adel.<br />\n&nbsp\;
LOCATION:Watch on the This Is Adel facebook page.
UID:e.2561.3302
SEQUENCE:3
DTSTAMP:20260423T124609Z
URL:https://business.adelpartners.org/events/details/virtual-holiday-home-tour-3302
END:VEVENT

END:VCALENDAR
