BEGIN:VCALENDAR
VERSION:2.0
PRODID:-//ChamberMaster//Event Calendar 2.0//EN
METHOD:PUBLISH
X-PUBLISHED-TTL:P3D
REFRESH-INTERVAL:P3D
CALSCALE:GREGORIAN
BEGIN:VEVENT
DTSTART:20200925T150000Z
DTEND:20200926T033000Z
X-MICROSOFT-CDO-ALLDAYEVENT:FALSE
SUMMARY:Virtual Ribbon Cutting Tiger Statue
DESCRIPTION:Watch us Live on Facebook @Adel Partners Chamber\n\nto learn the story behind the Tiger Statue at ADM Middle School entrance
X-ALT-DESC;FMTTYPE=text/html:Watch us Live on Facebook @Adel Partners Chamber<br />\nto learn the story behind the Tiger Statue at ADM Middle School entrance
LOCATION:Facebook @Adel Partners Chamber of Commerce
UID:e.2561.3297
SEQUENCE:3
DTSTAMP:20260423T165114Z
URL:https://business.adelpartners.org/events/details/virtual-ribbon-cutting-tiger-statue-3297
END:VEVENT

END:VCALENDAR
